BEGIN:VCALENDAR
VERSION:2.0
PRODID:-//hacksw/handcal//NONSGML v1.0//EN
BEGIN:VEVENT
SUMMARY:ASMF  -  B2M Futsal
UID:bea51513-eb89-41f1-b92c-c36fc1948015
DTSTART:20161019T184500Z
DTEND:20161019T220000Z
LOCATION:Localisation   
CATEGORIES:Sportif
STATUS:
URL;VALUE=URI:https://asmffootball.sportsregions.fr/evenements/2016/10/19/asmf-b2m-futsal-829161
END:VEVENT
END:VCALENDAR
