BEGIN:VCALENDAR
VERSION:2.0
PRODID:-//hacksw/handcal//NONSGML v1.0//EN
BEGIN:VEVENT
SUMMARY:Nanteuil Les Meaux - ASMF 1
UID:f22ec677-c200-41bc-a0f8-6eb487729c28
DTSTART:20260407T173000Z
DTEND:20260407T220000Z
LOCATION:Localisation   Nanteuil Les Meaux
CATEGORIES:Sportif
STATUS:
URL;VALUE=URI:https://asmffootball.sportsregions.fr/evenements/2026/04/07/nanteuil-les-meaux-asmf-1-2439015
END:VEVENT
END:VCALENDAR
