BEGIN:VCALENDAR
VERSION:2.0
PRODID:-//hacksw/handcal//NONSGML v1.0//EN
BEGIN:VEVENT
SUMMARY:ASMF - Coulommiers Brie F
UID:f62f6580-29d8-49aa-9b6d-34755fd317db
DTSTART:20260411T080000Z
DTEND:20260411T220000Z
LOCATION:Localisation   
CATEGORIES:Sportif
STATUS:
URL;VALUE=URI:https://asmffootball.sportsregions.fr/evenements/2026/04/11/asmf-coulommiers-brie-f-2436674
END:VEVENT
END:VCALENDAR
