BEGIN:VCALENDAR
VERSION:2.0
PRODID:-//hacksw/handcal//NONSGML v1.0//EN
BEGIN:VEVENT
SUMMARY:Es Saint Soupplets - Ent Ferte/Changis
UID:a0b86bed-f4b8-47d5-9d14-1c8978cd4ae6
DTSTART:20260412T073000Z
DTEND:20260412T220000Z
LOCATION:Localisation   Saint Soupplets
CATEGORIES:Sportif
STATUS:
URL;VALUE=URI:https://asmffootball.sportsregions.fr/evenements/2026/04/12/es-saint-soupplets-ent-fertechangis-2436697
END:VEVENT
END:VCALENDAR
