BEGIN:VCALENDAR
VERSION:2.0
PRODID:-//hacksw/handcal//NONSGML v1.0//EN
BEGIN:VEVENT
SUMMARY:ASMF - Ent. Csd/Othis/St Pat 2
UID:80eed8bb-49a8-4e72-84e5-2f50acc37dd2
DTSTART:20260418T133000Z
DTEND:20260418T220000Z
LOCATION:Stade Reaubourg Stade Reaubourg 2 rue de Reuil  77260 La Ferte sous Jouarre
CATEGORIES:Sportif
STATUS:
URL;VALUE=URI:https://asmffootball.sportsregions.fr/evenements/2026/04/18/asmf-ent-csdothisst-pat-2-2439555
END:VEVENT
END:VCALENDAR
