BEGIN:VCALENDAR
VERSION:2.0
PRODID:-//hacksw/handcal//NONSGML v1.0//EN
BEGIN:VEVENT
SUMMARY:Ent Fce-Uscl 2 - ASMF
UID:b90d7641-2695-4ac8-bb60-81e5ca0b7ea9
DTSTART:20260425T133000Z
DTEND:20260425T220000Z
LOCATION:Localisation   Emmerainville
CATEGORIES:Sportif
STATUS:
URL;VALUE=URI:https://asmffootball.sportsregions.fr/evenements/2026/04/25/ent-fce-uscl-2-asmf-2439576
END:VEVENT
END:VCALENDAR
