BEGIN:VCALENDAR
VERSION:2.0
PRODID:-//hacksw/handcal//NONSGML v1.0//EN
BEGIN:VEVENT
SUMMARY:ASMF - Ozoir Fc 77
UID:108bd30f-d498-4bab-8e7d-f9fa3bc3f17f
DTSTART:20260502T080000Z
DTEND:20260502T220000Z
LOCATION:Localisation   
CATEGORIES:Sportif
STATUS:
URL;VALUE=URI:https://asmffootball.sportsregions.fr/evenements/2026/05/02/asmf-ozoir-fc-77-2443255
END:VEVENT
END:VCALENDAR
