BEGIN:VCALENDAR
VERSION:2.0
PRODID:-//hacksw/handcal//NONSGML v1.0//EN
BEGIN:VEVENT
SUMMARY:Cs Courtry Academie 2 - ASMF
UID:29564ae0-3a1a-485a-8a4c-f12aa46f1e61
DTSTART:20260502T110000Z
DTEND:20260502T220000Z
LOCATION:Localisation   Courtry
CATEGORIES:Sportif
STATUS:
URL;VALUE=URI:https://asmffootball.sportsregions.fr/evenements/2026/05/02/cs-courtry-academie-2-asmf-2443252
END:VEVENT
END:VCALENDAR
