BEGIN:VCALENDAR
VERSION:2.0
PRODID:-//hacksw/handcal//NONSGML v1.0//EN
BEGIN:VEVENT
SUMMARY:Domont F.C. - ASMF 1
UID:75360ac6-7e5b-4b34-8824-e6f03abd6020
DTSTART:20260503T123000Z
DTEND:20260503T220000Z
LOCATION:Localisation   Domont
CATEGORIES:Sportif
STATUS:
URL;VALUE=URI:https://asmffootball.sportsregions.fr/evenements/2026/05/03/domont-fc-asmf-1-2443260
END:VEVENT
END:VCALENDAR
